BEGIN:VCALENDAR
VERSION:2.0
PRODID:-//RDB - ECPv6.11.2//NONSGML v1.0//EN
CALSCALE:GREGORIAN
METHOD:PUBLISH
X-WR-CALNAME:RDB
X-ORIGINAL-URL:https://2025.rdbfm.com
X-WR-CALDESC:Évènements pour RDB
REFRESH-INTERVAL;VALUE=DURATION:PT1H
X-Robots-Tag:noindex
X-PUBLISHED-TTL:PT1H
BEGIN:VTIMEZONE
TZID:Europe/Paris
BEGIN:DAYLIGHT
TZOFFSETFROM:+0100
TZOFFSETTO:+0200
TZNAME:CEST
DTSTART:20260329T010000
END:DAYLIGHT
BEGIN:STANDARD
TZOFFSETFROM:+0200
TZOFFSETTO:+0100
TZNAME:CET
DTSTART:20261025T010000
END:STANDARD
END:VTIMEZONE
BEGIN:VEVENT
DTSTART;TZID=Europe/Paris:20260515T180000
DTEND;TZID=Europe/Paris:20260515T233000
DTSTAMP:20260420T005846
CREATED:20251211T124945Z
LAST-MODIFIED:20251211T124945Z
UID:13686-1778868000-1778887800@2025.rdbfm.com
SUMMARY:Prochaine soirée jeux au Cheylard
DESCRIPTION:Le Cheylard Game est une association ayant pour but de rassembler lors de soirée jeux de société\, plateau\, stratégie\, cartes\, dés\, etc… \nLe 3e vendredi de chaque mois de 18h00 à minuit (hors juillet août) à la maison de pays rue 5 juillet 1944 07160 au Cheylard. \nVente de boissons et biscuits apéritif. \nAdhésion avec participation libre ou cotisation annuelle de 10 € avec certains avantages : \nNous acceptons les enfants accompagnés (âge recommandé à partir de 10 ans). \nProchaine soirée ce vendredi de 18h à Minuit.
URL:https://2025.rdbfm.com/event/prochaine-soiree-jeux-au-cheylard-9/
LOCATION:07160 Le Cheylard\, Le Cheylard\, 07160\, France
ATTACH;FMTTYPE=image/jpeg:https://2025.rdbfm.com/wp-content/uploads/2023/09/Cheylard-game.jpg
END:VEVENT
END:VCALENDAR