BEGIN:VCALENDAR
VERSION:2.0
PRODID:-//RDB - ECPv6.11.2//NONSGML v1.0//EN
CALSCALE:GREGORIAN
METHOD:PUBLISH
X-WR-CALNAME:RDB
X-ORIGINAL-URL:https://2025.rdbfm.com
X-WR-CALDESC:Évènements pour RDB
REFRESH-INTERVAL;VALUE=DURATION:PT1H
X-Robots-Tag:noindex
X-PUBLISHED-TTL:PT1H
BEGIN:VTIMEZONE
TZID:Europe/Paris
BEGIN:DAYLIGHT
TZOFFSETFROM:+0100
TZOFFSETTO:+0200
TZNAME:CEST
DTSTART:20260329T010000
END:DAYLIGHT
BEGIN:STANDARD
TZOFFSETFROM:+0200
TZOFFSETTO:+0100
TZNAME:CET
DTSTART:20261025T010000
END:STANDARD
END:VTIMEZONE
BEGIN:VEVENT
DTSTART;TZID=Europe/Paris:20260203T080000
DTEND;TZID=Europe/Paris:20260327T170000
DTSTAMP:20260419T183757
CREATED:20260122T140532Z
LAST-MODIFIED:20260122T140743Z
UID:13900-1770105600-1774630800@2025.rdbfm.com
SUMMARY:Exposition " construire Chauvet 2" à la médiathèque de Lamastre
DESCRIPTION:Exposition  » Construire Chauvet 2″ à la médiathèque de Lamastre du 3 février au 27 mars 2026. \nGrand public\, familles\, scolaires pourront lors d’une visite d’une vingtaine de minutes\, découvrir les secrets de la réalisation de la réplique de la grotte Chauvet. \nSept panneaux pédagogiques\, des vidéos et des fac-similés et quatre espaces permettront aux visiteurs d’appréhender les étapes de cette construction\, de mieux comprendre l’ampleur du chantier\, ses défis techniques\, etc. \n– L’aventure humaine qui a permis sa réalisation \n– Le projet architectural et l’intégration du site dans son environnement \n– La première maquette de l’anamorphose conçue dès 2003 par Frédéric Ravatin \n– Comment créer un fac-similé de la grotte (concept d’anamorphose) dans un espace réduit en conservant l’apparence des volumes originaux et la mise en scène des parois ornées. \nRenseignements sur le site : https://www.lamastre.fr/mes-infos-quotidiennes/agenda/exposition-construire-chauvet-2
URL:https://2025.rdbfm.com/event/13900/
LOCATION:07270 Lamastre\, Lamastre\, 07270\, France
ATTACH;FMTTYPE=image/webp:https://2025.rdbfm.com/wp-content/uploads/2023/03/Logo-VilleDeLamastre-rogne2-.webp
END:VEVENT
BEGIN:VEVENT
DTSTART;TZID=Europe/Paris:20260303T080000
DTEND;TZID=Europe/Paris:20260303T170000
DTSTAMP:20260419T183757
CREATED:20260216T124607Z
LAST-MODIFIED:20260216T131159Z
UID:14127-1772524800-1772557200@2025.rdbfm.com
SUMMARY:Adoption de 2 chiens inséparables à Lamastre
DESCRIPTION:L’association L’École du Chat de Lamastre lance aujourd’hui un appel urgent à l’adoption.\n\nDeux chiens inséparables ont été sauvés de la maltraitance et de longues journées passées attachés à un arbre. Aujourd’hui\, ils sont en sécurité dans une pension canine… mais ils attendent leur vraie famille.\n\nMira\, croisée malinois de 7 ans\, stérilisée\, une chienne attachante qui aura besoin d’un foyer sans autres chiens ni chats.\n\nRex\, chien de berger de 12 ans\, est un vieux toutou pépère\, indépendant et calme mais totalement perdu sans Mira qui est son point de repère.\n\nIls ont toujours vécu en extérieur : un terrain ou un jardin sera indispensable pour leur bien-être.\n\nNous recherchons une famille patiente\, aimante et prête à leur offrir enfin la douceur et la stabilité qu’ils méritent… ensemble.\n\nPour plus d’informations ou pour proposer une adoption\, contactez L’École du Chat de Lamastre : 0689946683\n\nOffrez-leur une seconde chance.
URL:https://2025.rdbfm.com/event/adoption-de-2-chiens-inseparables-a-lamastre/
LOCATION:07270 Lamastre\, Lamastre\, 07270\, France
ATTACH;FMTTYPE=image/png:https://2025.rdbfm.com/wp-content/uploads/2026/02/Ecole-chat.png
END:VEVENT
BEGIN:VEVENT
DTSTART;TZID=Europe/Paris:20260303T080000
DTEND;TZID=Europe/Paris:20260327T170000
DTSTAMP:20260419T183757
CREATED:20260210T133018Z
LAST-MODIFIED:20260210T133312Z
UID:14084-1772524800-1774630800@2025.rdbfm.com
SUMMARY:Planning point justice du CDAD07 mois de Mars
DESCRIPTION:Dans le cadre de ses actions\, le CDAD de l’Ardèche propose plusieurs permanences de consultations juridiques gratuites et ouvertes à tous et à toutes. Ces permanences\, appelées Point-Justice\, sont organisées sur tout le département de l’Ardèche. Afin que vous puissiez orienter utilement vers ces lieux d’accès au droit\, nous diffuserons chaque mois les lieux et dates des différents Point-Justice à la disposition du public pour le mois suivant.\nVoici donc les permanences organisées pour le mois de mars 2026. \nPour toute demande de rdv (hormis les Point-Justice assurés par les juristes du CIDFF 07) ou pour tout renseignement complémentaire\, n’hésitez pas à contacter le secrétariat du CDAD au : 04 75 66 40 28.
URL:https://2025.rdbfm.com/event/planning-point-justice-du-cdad07-mois-de-mars/
ATTACH;FMTTYPE=image/jpeg:https://2025.rdbfm.com/wp-content/uploads/2023/04/cdad07.jpg
END:VEVENT
BEGIN:VEVENT
DTSTART;TZID=Europe/Paris:20260303T200000
DTEND;TZID=Europe/Paris:20260305T223000
DTSTAMP:20260419T183757
CREATED:20260209T132730Z
LAST-MODIFIED:20260210T104658Z
UID:14056-1772568000-1772749800@2025.rdbfm.com
SUMMARY:Spectacle " Grand'X" à Beauchastel et St Sauveur de Montagut
DESCRIPTION:La Compagnie des Chimères vous propose le spectacle « Grand’X »\, mots tordus pour dire les violences conjugales\, mardi 3 mars 2026 à 20h à Beauchastel et jeudi 5 mars 2026 à 20h à Saint Sauveur de Montagut.\nCe spectacle grinçant qui secoue et gratte là où ça fait mal\, est accessible à partir de 14 ans.\nL’entrée est libre.\nPlus d’infos au 07 83 88 78 49.
URL:https://2025.rdbfm.com/event/spectacle-grandx-a-beauchastel-et-st-sauveur-de-montagut/
ATTACH;FMTTYPE=image/jpeg:https://2025.rdbfm.com/wp-content/uploads/2024/02/chimere.jpg
END:VEVENT
BEGIN:VEVENT
DTSTART;TZID=Europe/Paris:20260303T203000
DTEND;TZID=Europe/Paris:20260303T233000
DTSTAMP:20260419T183757
CREATED:20260216T104706Z
LAST-MODIFIED:20260216T104706Z
UID:14113-1772569800-1772580600@2025.rdbfm.com
SUMMARY:Prochaine soirée pleine lune à Desaignes
DESCRIPTION:Pour la prochaine soirée pleine lune de La M.A.C. nous avons l’immense joie d’accueillir L’Orchestre de Vernoux à l’espace culturel de Désaignes mardi 3 mars à 20h30 à l’espace culturel de Desaignes !\nHELENE HUON est La Direction Artistique de cet orchestre symphonique // Joie Joie Joie –\nRéservez votre soirée \, risque d’être  magique … »Quand l’art devient la caisse de résonance d’un message engagé… »\nParticipation LIBRE.\n\n\n 
URL:https://2025.rdbfm.com/event/prochaine-soiree-pleine-lune-a-desaignes/
LOCATION:07570 Désaignes\, Désaignes\, 07570\, France
ATTACH;FMTTYPE=image/jpeg:https://2025.rdbfm.com/wp-content/uploads/2026/01/MAC-maison-asso-Desaignes.jpg
END:VEVENT
END:VCALENDAR